BEGIN:VCALENDAR
VERSION:2.0
PRODID:-//Plone.org//NONSGML plone.app.event//EN
X-WR-TIMEZONE:Europe/Berlin
BEGIN:VEVENT
SUMMARY:La Direzione Nazionale antimafia. Competenze e attività della pol
 izia giudiziaria
DTSTART;TZID=Europe/Berlin:20251126T140000
DTEND;TZID=Europe/Berlin:20251126T160000
DTSTAMP:20260420T083852Z
UID:9525d49520ef4198901286e2cef93098@plone6.unife.it:8059
CATEGORIES:didattica-ferrara,didattica-rovigo
CREATED:20251125T103256Z
LAST-MODIFIED:20251125T103310Z
LOCATION:Dipartimento di Giurisprudenza\, aula 7
URL:https://de.unife.it/giuri/it/eventi/la-direzione-nazionale-antimafia-c
 ompetenze-e-attivita-della-polizia-giudiziaria
END:VEVENT
BEGIN:VTIMEZONE
TZID:Europe/Berlin
X-LIC-LOCATION:Europe/Berlin
BEGIN:STANDARD
DTSTART:20251026T020000
TZNAME:CET
TZOFFSETFROM:+0200
TZOFFSETTO:+0100
END:STANDARD
END:VTIMEZONE
END:VCALENDAR
