BEGIN:VCALENDAR
VERSION:2.0
PRODID:-//Plone.org//NONSGML plone.app.event//EN
X-WR-TIMEZONE:Europe/Berlin
BEGIN:VEVENT
SUMMARY:La fiscalità delle pensioni transfrontaliere nella Convenzione tr
 a Italia e San Marino
DTSTART;TZID=Europe/Berlin:20241113T110000
DTEND;TZID=Europe/Berlin:20241113T130000
DTSTAMP:20260420T095829Z
UID:b481248001694b329a34082c7685e3f0@plone6.unife.it:8059
CATEGORIES:dottorato,ricerca
CONTACT:https://www.dirittotributario.eu/la-fiscalita-delle-pensioni-trans
 frontaliere-nella-convenzione-contro-le-doppie-imposizioni-tra-italia-e-sa
 n-marino/
CREATED:20241018T062848Z
DESCRIPTION:Seminari tributari italo - sammarinesi - II
LAST-MODIFIED:20241018T063432Z
LOCATION:Aula 6\, Dipartimento di Giurisprudenza - Ferrara (in streaming s
 u X @marcogreggi)
URL:https://de.unife.it/giuri/it/eventi/la-fiscalita-delle-pensioni-transf
 rontaliere-nella-convenzione-tra-italia-e-san-marino
END:VEVENT
BEGIN:VTIMEZONE
TZID:Europe/Berlin
X-LIC-LOCATION:Europe/Berlin
BEGIN:STANDARD
DTSTART:20241027T020000
TZNAME:CET
TZOFFSETFROM:+0200
TZOFFSETTO:+0100
END:STANDARD
END:VTIMEZONE
END:VCALENDAR
