BEGIN:VCALENDAR
VERSION:2.0
PRODID:-//Plone.org//NONSGML plone.app.event//EN
X-WR-TIMEZONE:Europe/Berlin
BEGIN:VEVENT
SUMMARY:La Legge 13 giugno 2025 n. 89  - Disposizioni in materia di econom
 ia dello spazio - Prime riflessioni
DTSTART;TZID=Europe/Berlin:20251021T090000
DTEND;TZID=Europe/Berlin:20251021T130000
DTSTAMP:20260420T084112Z
UID:1f6d30a4248947ddafe2052e83a080f7@plone6.unife.it:8059
CATEGORIES:didattica-ferrara,ricerca
CREATED:20251016T084138Z
LAST-MODIFIED:20251110T082704Z
LOCATION:Sala Carlassare\, Dipartimento di Giurisprudenza - sede di Ferrar
 a
URL:https://de.unife.it/giuri/it/eventi/la-legge-13-giugno-2025-n-89-dispo
 sizioni-in-materia-di-economia-dello-spazio-prime-riflessioni
END:VEVENT
BEGIN:VTIMEZONE
TZID:Europe/Berlin
X-LIC-LOCATION:Europe/Berlin
BEGIN:DAYLIGHT
DTSTART:20250330T030000
TZNAME:CEST
TZOFFSETFROM:+0100
TZOFFSETTO:+0200
END:DAYLIGHT
END:VTIMEZONE
END:VCALENDAR
