BEGIN:VCALENDAR
VERSION:2.0
PRODID:-//Plone.org//NONSGML plone.app.event//EN
X-WR-TIMEZONE:Europe/Berlin
BEGIN:VEVENT
SUMMARY:LA PROPOSTA DI DIRETTIVA INSOLVENCY 3  E LA NUOVA DISCIPLINA DELLE
  REVOCATORIE
DTSTART;TZID=Europe/Berlin:20251107T103000
DTEND;TZID=Europe/Berlin:20251107T130000
DTSTAMP:20260420T095938Z
UID:5e0ebe621dc94b23a66baeb967d902fc@plone6.unife.it:8059
CATEGORIES:dottorato
CREATED:20250917T124512Z
LAST-MODIFIED:20250917T125144Z
LOCATION:Dipartimento di Giurisprudenza\, Sala “Lorenza Carlassare”
URL:https://de.unife.it/giuri/it/eventi/la-proposta-di-direttiva-insolvenc
 y-3-e-la-nuova-disciplina-delle-revocatorie
END:VEVENT
BEGIN:VTIMEZONE
TZID:Europe/Berlin
X-LIC-LOCATION:Europe/Berlin
BEGIN:STANDARD
DTSTART:20251026T020000
TZNAME:CET
TZOFFSETFROM:+0200
TZOFFSETTO:+0100
END:STANDARD
END:VTIMEZONE
END:VCALENDAR
