BEGIN:VCALENDAR
VERSION:2.0
PRODID:-//Plone.org//NONSGML plone.app.event//EN
X-WR-TIMEZONE:Europe/Berlin
BEGIN:VEVENT
SUMMARY:La raison d’être (corporate purpose)\,  notamment dans une pers
 pective franco-nord américaine- italienne
DTSTART;TZID=Europe/Berlin:20260513T110000
DTEND;TZID=Europe/Berlin:20260513T130000
DTSTAMP:20260420T083857Z
UID:4deabbec3c6848999fcbed6ebcf08b52@plone6.unife.it:8059
CATEGORIES:didattica-ferrara,dottorato
CREATED:20260319T091233Z
LAST-MODIFIED:20260319T111100Z
LOCATION:Dipartimento di Giurisprudenza - Aula 6
URL:https://de.unife.it/giuri/it/eventi/la-raison-d2019etre-corporate-purp
 ose-notamment-dans-une-perspective-franco-nord-americaine-italienne
END:VEVENT
BEGIN:VTIMEZONE
TZID:Europe/Berlin
X-LIC-LOCATION:Europe/Berlin
BEGIN:DAYLIGHT
DTSTART:20260329T030000
TZNAME:CEST
TZOFFSETFROM:+0100
TZOFFSETTO:+0200
END:DAYLIGHT
END:VTIMEZONE
END:VCALENDAR
