BEGIN:VCALENDAR
VERSION:2.0
PRODID:-//Plone.org//NONSGML plone.app.event//EN
X-WR-TIMEZONE:Europe/Berlin
BEGIN:VEVENT
SUMMARY:La regolazione dell'intelligenza artificiale in Spagna: la Ley 2/2
 025 della Galizia
DTSTART;TZID=Europe/Berlin:20250523T110000
DTEND;TZID=Europe/Berlin:20250523T130000
DTSTAMP:20260420T084015Z
UID:bb5da6bca48c4162b8e63d0747a24034@plone6.unife.it:8059
CATEGORIES:ricerca,dottorato
CREATED:20250515T075215Z
LAST-MODIFIED:20250515T080108Z
LOCATION:Dipartimento di Giurisprudenza - Sala Carlassare
URL:https://de.unife.it/giuri/it/eventi/la-regolazione-dellintelligenza-ar
 tificiale-in-spagna-la-ley-2-2025-della-galizia
END:VEVENT
BEGIN:VTIMEZONE
TZID:Europe/Berlin
X-LIC-LOCATION:Europe/Berlin
BEGIN:DAYLIGHT
DTSTART:20250330T030000
TZNAME:CEST
TZOFFSETFROM:+0100
TZOFFSETTO:+0200
END:DAYLIGHT
END:VTIMEZONE
END:VCALENDAR
