BEGIN:VCALENDAR
VERSION:2.0
PRODID:-//Plone.org//NONSGML plone.app.event//EN
X-WR-TIMEZONE:Europe/Berlin
BEGIN:VEVENT
SUMMARY:La tutela del migrante in Italia: profili di diritto internazional
 e ed interno
DTSTART;TZID=Europe/Berlin:20250314T140000
DTEND;TZID=Europe/Berlin:20250314T180000
DTSTAMP:20260420T095812Z
UID:977cc10680d14707bf4d3cac2863e0c1@plone6.unife.it:8059
CREATED:20250305T111015Z
LAST-MODIFIED:20250305T111139Z
LOCATION:Dipartimento di Giurisprudenza | Aula Magna
URL:https://de.unife.it/giuri/it/eventi/la-tutela-del-migrante-in-italia-p
 rofili-di-diritto-internazionale-ed-interno
END:VEVENT
BEGIN:VTIMEZONE
TZID:Europe/Berlin
X-LIC-LOCATION:Europe/Berlin
BEGIN:STANDARD
DTSTART:20241027T020000
TZNAME:CET
TZOFFSETFROM:+0200
TZOFFSETTO:+0100
END:STANDARD
END:VTIMEZONE
END:VCALENDAR
