BEGIN:VCALENDAR
VERSION:2.0
PRODID:-//Plone.org//NONSGML plone.app.event//EN
X-WR-TIMEZONE:Europe/Berlin
BEGIN:VEVENT
SUMMARY:Webinar "La tutela del passeggero nella prospettiva europea tra li
 mitazioni risarcitorie e liquidazioni forfettarie"
DTSTART;TZID=Europe/Berlin:20250416T160000
DTSTAMP:20260420T084025Z
UID:f405e2c0fee24178b813449e752198c2@plone6.unife.it:8059
CATEGORIES:ricerca
CREATED:20250402T074027Z
LAST-MODIFIED:20250418T104931Z
LOCATION:Google Meet
URL:https://de.unife.it/giuri/it/eventi/la-tutela-del-passeggero-nella-pro
 spettiva-europea-tralimitazioni-risarcitorie-e-liquidazioni-forfettarie
END:VEVENT
BEGIN:VTIMEZONE
TZID:Europe/Berlin
X-LIC-LOCATION:Europe/Berlin
BEGIN:DAYLIGHT
DTSTART:20250330T030000
TZNAME:CEST
TZOFFSETFROM:+0100
TZOFFSETTO:+0200
END:DAYLIGHT
END:VTIMEZONE
END:VCALENDAR
