BEGIN:VCALENDAR
VERSION:2.0
PRODID:-//Plone.org//NONSGML plone.app.event//EN
X-WR-TIMEZONE:Europe/Berlin
BEGIN:VEVENT
SUMMARY:La tutela delle vittime di reato: questioni teoriche e politiche p
 ubbliche
DTSTART;TZID=Europe/Berlin:20240628T103000
DTEND;TZID=Europe/Berlin:20240628T170000
DTSTAMP:20260420T083836Z
UID:eaae6afd8878403883945795f1f62c6b@plone6.unife.it:8059
CATEGORIES:terza-missione
CREATED:20240708T110644Z
LAST-MODIFIED:20240808T132216Z
LOCATION:Sala Carlassare\, Dipartimento di Giurisprudenza - sede di Ferrar
 a
URL:https://de.unife.it/giuri/it/eventi/la-tutela-delle-vittime-di-reato-q
 uestioni-teoriche-e-politiche-pubbliche
END:VEVENT
BEGIN:VTIMEZONE
TZID:Europe/Berlin
X-LIC-LOCATION:Europe/Berlin
BEGIN:DAYLIGHT
DTSTART:20240331T030000
TZNAME:CEST
TZOFFSETFROM:+0100
TZOFFSETTO:+0200
END:DAYLIGHT
END:VTIMEZONE
END:VCALENDAR
