BEGIN:VCALENDAR
VERSION:2.0
PRODID:-//Plone.org//NONSGML plone.app.event//EN
X-WR-TIMEZONE:Europe/Berlin
BEGIN:VEVENT
SUMMARY:La verifica dei poteri dei parlamentari europei - Profili costituz
 ionali
DTSTART;TZID=Europe/Berlin:20250326T150000
DTEND;TZID=Europe/Berlin:20250326T163000
DTSTAMP:20260420T095938Z
UID:313e7e2ba18246798b6816d6a0835564@plone6.unife.it:8059
CATEGORIES:dottorato
CREATED:20250317T111810Z
LAST-MODIFIED:20250317T112528Z
LOCATION:Dipartimento di Giurisprudenza - aula 2 - Sede di Ferrara
URL:https://de.unife.it/giuri/it/eventi/la-verifica-dei-poteri-dei-parlame
 ntari-europei-profili-costituzionali
END:VEVENT
BEGIN:VTIMEZONE
TZID:Europe/Berlin
X-LIC-LOCATION:Europe/Berlin
BEGIN:STANDARD
DTSTART:20241027T020000
TZNAME:CET
TZOFFSETFROM:+0200
TZOFFSETTO:+0100
END:STANDARD
END:VTIMEZONE
END:VCALENDAR
