BEGIN:VCALENDAR
VERSION:2.0
PRODID:-//Plone.org//NONSGML plone.app.event//EN
X-WR-TIMEZONE:Europe/Berlin
BEGIN:VEVENT
SUMMARY:L'amministrazione per algoritmi: esperienze a confronto
DTSTART;VALUE=DATE:20250526
DTEND;VALUE=DATE:20250528
DTSTAMP:20260420T083535Z
UID:ee274afe80e94a8eb39c15a0a6850825@plone6.unife.it:8059
CATEGORIES:ricerca,dottorato
CREATED:20250507T092012Z
LAST-MODIFIED:20250519T063553Z
LOCATION:Sala Carlassare | Aula Magna Dipartimento di Giurisprudenza
URL:https://de.unife.it/giuri/it/eventi/lamministrazione-per-algoritmi-esp
 erienze-a-confronto
END:VEVENT
END:VCALENDAR
