BEGIN:VCALENDAR
VERSION:2.0
PRODID:-//Plone.org//NONSGML plone.app.event//EN
X-WR-TIMEZONE:Europe/Berlin
BEGIN:VEVENT
SUMMARY:Le relazioni industriali del possibile
DTSTART;TZID=Europe/Berlin:20260325T110000
DTEND;TZID=Europe/Berlin:20260325T130000
DTSTAMP:20260420T083554Z
UID:40faeceb65f54fe49eb448f53c869394@plone6.unife.it:8059
CATEGORIES:didattica-ferrara
CREATED:20260323T093637Z
DESCRIPTION:La storia della vertenza ex-Gkn e l’uso strategico del dirit
 to
LAST-MODIFIED:20260323T093652Z
LOCATION:Dipartimento di Giurisprudenza - Aula 2
URL:https://de.unife.it/giuri/it/eventi/le-relazioni-industriali-del-possi
 bile
END:VEVENT
BEGIN:VTIMEZONE
TZID:Europe/Berlin
X-LIC-LOCATION:Europe/Berlin
BEGIN:STANDARD
DTSTART:20251026T020000
TZNAME:CET
TZOFFSETFROM:+0200
TZOFFSETTO:+0100
END:STANDARD
END:VTIMEZONE
END:VCALENDAR
