BEGIN:VCALENDAR
VERSION:2.0
PRODID:-//Plone.org//NONSGML plone.app.event//EN
X-WR-TIMEZONE:Europe/Berlin
BEGIN:VEVENT
SUMMARY:Lezione inaugurale del Corso di “Enti del Terzo settore e organi
 zzazioni religiose”
DTSTART;TZID=Europe/Berlin:20260227T140000
DTEND;TZID=Europe/Berlin:20260227T163000
DTSTAMP:20260420T095937Z
UID:6b9fdf3dbe074025a8e7692ebff1edbe@plone6.unife.it:8059
CATEGORIES:didattica-rovigo,dottorato
CREATED:20260202T113232Z
LAST-MODIFIED:20260202T124245Z
LOCATION:Dipartimento di Giurisprudenza  - Palazzo Angeli\, ROVIGO - Aula 
 Magna Luigi Costato
URL:https://de.unife.it/giuri/it/eventi/lezione-inaugurale-del-corso-di-20
 1centi-del-terzo-settore-e-organizzazioni-religiose201d
END:VEVENT
BEGIN:VTIMEZONE
TZID:Europe/Berlin
X-LIC-LOCATION:Europe/Berlin
BEGIN:STANDARD
DTSTART:20251026T020000
TZNAME:CET
TZOFFSETFROM:+0200
TZOFFSETTO:+0100
END:STANDARD
END:VTIMEZONE
END:VCALENDAR
