BEGIN:VCALENDAR
VERSION:2.0
PRODID:-//Plone.org//NONSGML plone.app.event//EN
X-WR-TIMEZONE:Europe/Berlin
BEGIN:VEVENT
SUMMARY:Linee evolutive in materia di responsabilità da reato degli enti 
 collettivi
DTSTART;TZID=Europe/Berlin:20260313T093000
DTEND;TZID=Europe/Berlin:20260313T170000
DTSTAMP:20260420T083852Z
UID:d068851b88b14f4aaa57fabae554396d@plone6.unife.it:8059
CATEGORIES:ricerca,dottorato
CREATED:20260310T102558Z
LAST-MODIFIED:20260310T102618Z
LOCATION:Dipartimento di Giurisprudenza\, Aula Magna
URL:https://de.unife.it/giuri/it/eventi/linee-evolutive-in-materia-di-resp
 onsabilita-da-reato-degli-enti-collettivi
END:VEVENT
BEGIN:VTIMEZONE
TZID:Europe/Berlin
X-LIC-LOCATION:Europe/Berlin
BEGIN:STANDARD
DTSTART:20251026T020000
TZNAME:CET
TZOFFSETFROM:+0200
TZOFFSETTO:+0100
END:STANDARD
END:VTIMEZONE
END:VCALENDAR
