BEGIN:VCALENDAR
VERSION:2.0
PRODID:-//Plone.org//NONSGML plone.app.event//EN
X-WR-TIMEZONE:Europe/Berlin
BEGIN:VEVENT
SUMMARY:Meccanismi di garanzia e controllo del diritto internazionale uman
 itario
DTSTART;TZID=Europe/Berlin:20250522T093000
DTEND;TZID=Europe/Berlin:20250522T123000
DTSTAMP:20260420T095656Z
UID:813527a2cd1d4687956e08faa464a8e8@plone6.unife.it:8059
CATEGORIES:didattica-ferrara
CREATED:20250407T121919Z
DESCRIPTION:Nell'ambito del corso di Diritti umani e diritto umanitario ne
 i conflitti armati
LAST-MODIFIED:20250407T122018Z
LOCATION:AULA MAGNA - DIPARTIMENTO DI GIURISPRUDENZA
URL:https://de.unife.it/giuri/it/eventi/meccanismi-di-garanzia-e-controllo
 -del-diritto-internazionale-umanitario
END:VEVENT
BEGIN:VTIMEZONE
TZID:Europe/Berlin
X-LIC-LOCATION:Europe/Berlin
BEGIN:DAYLIGHT
DTSTART:20250330T030000
TZNAME:CEST
TZOFFSETFROM:+0100
TZOFFSETTO:+0200
END:DAYLIGHT
END:VTIMEZONE
END:VCALENDAR
