BEGIN:VCALENDAR
VERSION:2.0
PRODID:-//Plone.org//NONSGML plone.app.event//EN
X-WR-TIMEZONE:Europe/Berlin
BEGIN:VEVENT
SUMMARY:MEMORIE MIGRANTI - PERCHÉ E COME FARE MEMORIA DELLA MIGRAZIONE
DTSTART;TZID=Europe/Berlin:20241127T150000
DTEND;TZID=Europe/Berlin:20241127T180000
DTSTAMP:20260420T095641Z
UID:8f6b39c148f74451ae02cf41c60f77da@plone6.unife.it:8059
CATEGORIES:terza-missione
CREATED:20241120T141111Z
DESCRIPTION:Festival della migrazione | 26•30 novembre 2024\nEuropa-Afri
 ca andata e ritorno
LAST-MODIFIED:20241120T141335Z
LOCATION:Dipartimento di Giurisprudenza - Sede di Ferrara - Aula Magna
URL:https://de.unife.it/giuri/it/eventi/memorie-migranti-perche-e-come-far
 e-memoria-della-migrazione
END:VEVENT
BEGIN:VTIMEZONE
TZID:Europe/Berlin
X-LIC-LOCATION:Europe/Berlin
BEGIN:STANDARD
DTSTART:20241027T020000
TZNAME:CET
TZOFFSETFROM:+0200
TZOFFSETTO:+0100
END:STANDARD
END:VTIMEZONE
END:VCALENDAR
