BEGIN:VCALENDAR
VERSION:2.0
PRODID:-//Plone.org//NONSGML plone.app.event//EN
X-WR-TIMEZONE:Europe/Berlin
BEGIN:VEVENT
SUMMARY:Notte Bianca delle Biblioteche - Palazzo Angeli - Rovigo
DTSTART;TZID=Europe/Berlin:20250905T210000
DTEND;TZID=Europe/Berlin:20250905T230000
DTSTAMP:20260420T083425Z
UID:d9d839a9abb04811ba126d72995427f1@plone6.unife.it:8059
CATEGORIES:didattica-rovigo
CREATED:20250829T083048Z
LAST-MODIFIED:20250829T083455Z
LOCATION:Palazzo Angeli - Sede di Rovigo
URL:https://de.unife.it/giuri/it/eventi/notte-bianca-delle-biblioteche
END:VEVENT
BEGIN:VTIMEZONE
TZID:Europe/Berlin
X-LIC-LOCATION:Europe/Berlin
BEGIN:DAYLIGHT
DTSTART:20250330T030000
TZNAME:CEST
TZOFFSETFROM:+0100
TZOFFSETTO:+0200
END:DAYLIGHT
END:VTIMEZONE
END:VCALENDAR
