BEGIN:VCALENDAR
VERSION:2.0
PRODID:-//Plone.org//NONSGML plone.app.event//EN
X-WR-TIMEZONE:Europe/Berlin
BEGIN:VEVENT
SUMMARY:Nuove tecnologie tra spazio atmosferico ed extra atmosferico: ques
 tioni giuridiche emergenti
DTSTART;TZID=Europe/Berlin:20240924T090000
DTEND;TZID=Europe/Berlin:20240924T160000
DTSTAMP:20260420T084015Z
UID:18c76c7d7ba843c486250e0401b9f6bc@plone6.unife.it:8059
CATEGORIES:didattica-ferrara
CREATED:20240919T084012Z
LAST-MODIFIED:20251110T082913Z
LOCATION:Sala Consiliare e online
URL:https://de.unife.it/giuri/it/eventi/nuove-tecnologie-tra-spazio-atmosf
 erico-ed-extra-atmosferico-questioni-giuridiche-emergenti
END:VEVENT
BEGIN:VTIMEZONE
TZID:Europe/Berlin
X-LIC-LOCATION:Europe/Berlin
BEGIN:DAYLIGHT
DTSTART:20240331T030000
TZNAME:CEST
TZOFFSETFROM:+0100
TZOFFSETTO:+0200
END:DAYLIGHT
END:VTIMEZONE
END:VCALENDAR
