BEGIN:VCALENDAR
VERSION:2.0
PRODID:-//Plone.org//NONSGML plone.app.event//EN
X-WR-TIMEZONE:Europe/Berlin
BEGIN:VEVENT
SUMMARY:On a hiding to nowhere? Litigating environmental and human rights 
 wrongs in the Global North
DTSTART;TZID=Europe/Berlin:20250515T090000
DTEND;TZID=Europe/Berlin:20250515T110000
DTSTAMP:20260420T083836Z
UID:766a5b1843c74988968619978d9d2cdb@plone6.unife.it:8059
CATEGORIES:didattica-rovigo,didattica-ferrara,dottorato
CREATED:20250507T122042Z
LAST-MODIFIED:20250507T123301Z
LOCATION:Dipartimento di Giurisprudenza - aula 8
URL:https://de.unife.it/giuri/it/eventi/on-a-hiding-to-nowhere-litigating-
 environmental-and-human-rights-wrongs-in-the-global-north
END:VEVENT
BEGIN:VTIMEZONE
TZID:Europe/Berlin
X-LIC-LOCATION:Europe/Berlin
BEGIN:DAYLIGHT
DTSTART:20250330T030000
TZNAME:CEST
TZOFFSETFROM:+0100
TZOFFSETTO:+0200
END:DAYLIGHT
END:VTIMEZONE
END:VCALENDAR
