BEGIN:VCALENDAR
VERSION:2.0
PRODID:-//Plone.org//NONSGML plone.app.event//EN
X-WR-TIMEZONE:Europe/Berlin
BEGIN:VEVENT
SUMMARY:Orientamento in uscita 2025 | DIRITTO E PROFESSIONI: Magistrato\, 
 Avvocato e Notaio
DTSTART;TZID=Europe/Berlin:20250512T150000
DTEND;TZID=Europe/Berlin:20250512T170000
DTSTAMP:20260420T084015Z
UID:26494558877e4372856f750e4a6e0c58@plone6.unife.it:8059
CATEGORIES:didattica-ferrara,didattica-rovigo
CREATED:20250507T104003Z
LAST-MODIFIED:20250507T104021Z
LOCATION:Dipartimento di Giurisprudenza - aula 5
URL:https://de.unife.it/giuri/it/eventi/orientamento-in-uscita-2025-diritt
 o-e-professioni-magistrato-avvocato-e-notaio
END:VEVENT
BEGIN:VTIMEZONE
TZID:Europe/Berlin
X-LIC-LOCATION:Europe/Berlin
BEGIN:DAYLIGHT
DTSTART:20250330T030000
TZNAME:CEST
TZOFFSETFROM:+0100
TZOFFSETTO:+0200
END:DAYLIGHT
END:VTIMEZONE
END:VCALENDAR
