BEGIN:VCALENDAR
VERSION:2.0
PRODID:-//Plone.org//NONSGML plone.app.event//EN
X-WR-TIMEZONE:Europe/Berlin
BEGIN:VEVENT
SUMMARY:Politiche migratorie e conflitti tra ordinamenti: una riflessione 
 multidisciplinare a partire dal caso dei “Paesi sicuri”
DTSTART;TZID=Europe/Berlin:20250124T140000
DTEND;TZID=Europe/Berlin:20250124T170000
DTSTAMP:20260420T084020Z
UID:242903d8020d48a4ae3f2d3acdf456e7@plone6.unife.it:8059
CATEGORIES:dottorato,ricerca
CREATED:20250107T125724Z
LAST-MODIFIED:20250127T092146Z
LOCATION:Sala Carlassare - Dipartimento di Giurisprudenza - Sede di Ferrar
 a
URL:https://de.unife.it/giuri/it/eventi/politiche-migratorie-e-conflitti-t
 ra-ordinamenti-una-riflessione-multidisciplinare-a-partire-dal-caso-dei-20
 1cpaesi-sicuri201d
END:VEVENT
BEGIN:VTIMEZONE
TZID:Europe/Berlin
X-LIC-LOCATION:Europe/Berlin
BEGIN:STANDARD
DTSTART:20241027T020000
TZNAME:CET
TZOFFSETFROM:+0200
TZOFFSETTO:+0100
END:STANDARD
END:VTIMEZONE
END:VCALENDAR
