BEGIN:VCALENDAR
VERSION:2.0
PRODID:-//Plone.org//NONSGML plone.app.event//EN
X-WR-TIMEZONE:Europe/Berlin
BEGIN:VEVENT
SUMMARY:Presentazione del libro di Luigi Ferrajoli
DTSTART;TZID=Europe/Berlin:20241028T173000
DTEND;TZID=Europe/Berlin:20241028T190000
DTSTAMP:20260420T083535Z
UID:cd8ffe0da5f1481f984cc94b8087a719@plone6.unife.it:8059
ATTENDEE;CN=;ROLE=REQ-PARTICIPANT:
ATTENDEE;CN=;ROLE=REQ-PARTICIPANT:
ATTENDEE;CN=;ROLE=REQ-PARTICIPANT:
CATEGORIES:terza-missione
CREATED:20241025T072602Z
DESCRIPTION:Presso Libraccio Ferrara\, lunedì 28 ottobre 2024
LAST-MODIFIED:20241025T072625Z
LOCATION:Libreria Libraccio\, Piazza Trento e Trieste\, Palazzo San Crispi
 no - Ferrara
URL:https://de.unife.it/giuri/it/eventi/presentazione-del-libro-di-luigi-f
 errajoli
END:VEVENT
BEGIN:VTIMEZONE
TZID:Europe/Berlin
X-LIC-LOCATION:Europe/Berlin
BEGIN:STANDARD
DTSTART:20241027T020000
TZNAME:CET
TZOFFSETFROM:+0200
TZOFFSETTO:+0100
END:STANDARD
END:VTIMEZONE
END:VCALENDAR
