BEGIN:VCALENDAR
VERSION:2.0
PRODID:-//Plone.org//NONSGML plone.app.event//EN
X-WR-TIMEZONE:Europe/Berlin
BEGIN:VEVENT
SUMMARY:Presentazione del libro "Giacomo Matteotti nella carte dell'Archiv
 io storico della Camera dei deputati"
DTSTART;TZID=Europe/Berlin:20251007T170000
DTEND;TZID=Europe/Berlin:20251007T193000
DTSTAMP:20260420T084020Z
UID:eed200a78afe40f1a2f6a4e4fcfeaa40@plone6.unife.it:8059
CATEGORIES:terza-missione,didattica-rovigo
CREATED:20250925T082407Z
LAST-MODIFIED:20250925T082716Z
LOCATION:Dip. di Giurisprudenza\, Sede di Rovigo Palazzo Angeli\, Aula Mag
 na "Luigi Costato"
URL:https://de.unife.it/giuri/it/eventi/presentazione-del-libro-giacomo-ma
 tteotti-nella-carte-dellarchivio-storico-della-camera-dei-deputati
END:VEVENT
BEGIN:VTIMEZONE
TZID:Europe/Berlin
X-LIC-LOCATION:Europe/Berlin
BEGIN:DAYLIGHT
DTSTART:20250330T030000
TZNAME:CEST
TZOFFSETFROM:+0100
TZOFFSETTO:+0200
END:DAYLIGHT
END:VTIMEZONE
END:VCALENDAR
