BEGIN:VCALENDAR
VERSION:2.0
PRODID:-//Plone.org//NONSGML plone.app.event//EN
X-WR-TIMEZONE:Europe/Berlin
BEGIN:VEVENT
SUMMARY:Presentazione del libro "Narrazioni e distopie penitenziarie"
DTSTART;TZID=Europe/Berlin:20251121T143000
DTEND;TZID=Europe/Berlin:20251121T170000
DTSTAMP:20260420T095641Z
UID:2eee8ddba7aa4a9c9e1f9f4ea307f93a@plone6.unife.it:8059
CATEGORIES:didattica-ferrara,terza-missione
CREATED:20251003T093055Z
LAST-MODIFIED:20251003T093110Z
LOCATION:Sala Carlassare\, Dipartimento di Giurisprudenza
URL:https://de.unife.it/giuri/it/eventi/presentazione-del-libro-narrazioni
 -e-distopie-penitenziarie
END:VEVENT
BEGIN:VTIMEZONE
TZID:Europe/Berlin
X-LIC-LOCATION:Europe/Berlin
BEGIN:STANDARD
DTSTART:20251026T020000
TZNAME:CET
TZOFFSETFROM:+0200
TZOFFSETTO:+0100
END:STANDARD
END:VTIMEZONE
END:VCALENDAR
