BEGIN:VCALENDAR
VERSION:2.0
PRODID:-//Plone.org//NONSGML plone.app.event//EN
X-WR-TIMEZONE:Europe/Berlin
BEGIN:VEVENT
SUMMARY:Presentazione del volume di Carlo Iannello\, Lo Stato del potere. 
 Politica e diritto ai tempi della post-libertà\, Meltemi ed.\, 2024.
DTSTART;TZID=Europe/Berlin:20260204T173000
DTEND;TZID=Europe/Berlin:20260204T193000
DTSTAMP:20260420T084026Z
UID:f7b195c2d631421690026faac72c23b9@plone6.unife.it:8059
CATEGORIES:terza-missione
CREATED:20260129T095435Z
LAST-MODIFIED:20260129T095517Z
LOCATION:Libreria Il Libraccio di Ferrara\, P.zza Trento e Trieste
URL:https://de.unife.it/giuri/it/eventi/presentazione-del-volume-di-carlo-
 iannello-lo-stato-del-potere-politica-e-diritto-ai-tempi-della-post-libert
 a-meltemi-ed-2024
END:VEVENT
BEGIN:VTIMEZONE
TZID:Europe/Berlin
X-LIC-LOCATION:Europe/Berlin
BEGIN:STANDARD
DTSTART:20251026T020000
TZNAME:CET
TZOFFSETFROM:+0200
TZOFFSETTO:+0100
END:STANDARD
END:VTIMEZONE
END:VCALENDAR
