BEGIN:VCALENDAR
VERSION:2.0
PRODID:-//Plone.org//NONSGML plone.app.event//EN
X-WR-TIMEZONE:Europe/Berlin
BEGIN:VEVENT
SUMMARY:Prevenire e reprimere il genocidio. Diritto\, diritti e responsabi
 lità della comunità internazionale
DTSTART;TZID=Europe/Berlin:20250114T143000
DTEND;TZID=Europe/Berlin:20250114T173000
DTSTAMP:20260420T095657Z
UID:dfe1677300014da0b45cca5603a955da@plone6.unife.it:8059
CATEGORIES:ricerca
CREATED:20250109T080710Z
LAST-MODIFIED:20250109T080819Z
LOCATION:Dipartimento di Giurisprudenza\, Università di Ferrara Sala Cons
 iliare “Lorenza Carlassare”
URL:https://de.unife.it/giuri/it/eventi/prevenire-e-reprimere-il-genocidio
 -diritto-diritti-e-responsabilita-della-comunita-internazionale
END:VEVENT
BEGIN:VTIMEZONE
TZID:Europe/Berlin
X-LIC-LOCATION:Europe/Berlin
BEGIN:STANDARD
DTSTART:20241027T020000
TZNAME:CET
TZOFFSETFROM:+0200
TZOFFSETTO:+0100
END:STANDARD
END:VTIMEZONE
END:VCALENDAR
