BEGIN:VCALENDAR
VERSION:2.0
PRODID:-//Plone.org//NONSGML plone.app.event//EN
X-WR-TIMEZONE:Europe/Berlin
BEGIN:VEVENT
SUMMARY:Prima lezione del Corso di Diritto privato minorile italiano ed eu
 ropeo
DTSTART;TZID=Europe/Berlin:20250228T140000
DTEND;TZID=Europe/Berlin:20250228T180000
DTSTAMP:20260420T095812Z
UID:2d66751e3dc54d62860da3e1efb89306@plone6.unife.it:8059
CREATED:20250207T151511Z
LAST-MODIFIED:20250214T080506Z
LOCATION:Dipartimento di Giurisprudenza - Sede di Rovigo\, Aula Magna "Lui
 gi Costato"
URL:https://de.unife.it/giuri/it/eventi/prima-lezione-del-corso-di-diritto
 -privato-minorile-italiano-ed-europeo
END:VEVENT
BEGIN:VTIMEZONE
TZID:Europe/Berlin
X-LIC-LOCATION:Europe/Berlin
BEGIN:STANDARD
DTSTART:20241027T020000
TZNAME:CET
TZOFFSETFROM:+0200
TZOFFSETTO:+0100
END:STANDARD
END:VTIMEZONE
END:VCALENDAR
