BEGIN:VCALENDAR
VERSION:2.0
PRODID:-//Plone.org//NONSGML plone.app.event//EN
X-WR-TIMEZONE:Europe/Berlin
BEGIN:VEVENT
SUMMARY:Problemi attuali in materia di circolazione dell'azienda
DTSTART;TZID=Europe/Berlin:20250530T150000
DTEND;TZID=Europe/Berlin:20250530T180000
DTSTAMP:20260420T084015Z
UID:bc436fb7982e44f2bc89ae4e572f88ab@plone6.unife.it:8059
CATEGORIES:dottorato,ricerca
CREATED:20250521T083221Z
LAST-MODIFIED:20250521T083244Z
LOCATION:Dipartimento di Giurisprudenza\, Sala “Carlassare”
URL:https://de.unife.it/giuri/it/eventi/problemi-attuali-in-materia-di-cir
 colazione-dellazienda
END:VEVENT
BEGIN:VTIMEZONE
TZID:Europe/Berlin
X-LIC-LOCATION:Europe/Berlin
BEGIN:DAYLIGHT
DTSTART:20250330T030000
TZNAME:CEST
TZOFFSETFROM:+0100
TZOFFSETTO:+0200
END:DAYLIGHT
END:VTIMEZONE
END:VCALENDAR
