BEGIN:VCALENDAR
VERSION:2.0
PRODID:-//Plone.org//NONSGML plone.app.event//EN
X-WR-TIMEZONE:Europe/Berlin
BEGIN:VEVENT
SUMMARY:Proiezione pubblica del docu-film “Falcone e Borsellino – Il f
 uoco della memoria”
DTSTART;TZID=Europe/Berlin:20250318T174500
DTEND;TZID=Europe/Berlin:20250318T194500
DTSTAMP:20260420T083829Z
UID:5172b304a0ce435b8691ace0080fbb1a@plone6.unife.it:8059
CATEGORIES:ricerca,terza-missione
CREATED:20250310T140853Z
LAST-MODIFIED:20250310T141015Z
LOCATION:Sala Estense del Comune di Ferrara
URL:https://de.unife.it/giuri/it/eventi/proiezione-pubblica-del-docu-film-
 201cfalcone-e-borsellino-2013-il-fuoco-della-memoria201d
END:VEVENT
BEGIN:VTIMEZONE
TZID:Europe/Berlin
X-LIC-LOCATION:Europe/Berlin
BEGIN:STANDARD
DTSTART:20241027T020000
TZNAME:CET
TZOFFSETFROM:+0200
TZOFFSETTO:+0100
END:STANDARD
END:VTIMEZONE
END:VCALENDAR
