BEGIN:VCALENDAR
VERSION:2.0
PRODID:-//Plone.org//NONSGML plone.app.event//EN
X-WR-TIMEZONE:Europe/Berlin
BEGIN:VEVENT
SUMMARY:Regolamento europeo sull'intelligenza artificiale
DTSTART;TZID=Europe/Berlin:20250515T150000
DTEND;TZID=Europe/Berlin:20250515T170000
DTSTAMP:20260420T082801Z
UID:94065519432e492e84659dfb890f8370@plone6.unife.it:8059
CATEGORIES:terza-missione
CREATED:20250430T105222Z
LAST-MODIFIED:20250430T105604Z
LOCATION:AULA MAGNA LUIGI COSTATO | PALAZZO ANGELI | ROVIGO
URL:https://de.unife.it/giuri/it/eventi/regolamento-europeo-sullintelligen
 za-artificiale
END:VEVENT
BEGIN:VTIMEZONE
TZID:Europe/Berlin
X-LIC-LOCATION:Europe/Berlin
BEGIN:DAYLIGHT
DTSTART:20250330T030000
TZNAME:CEST
TZOFFSETFROM:+0100
TZOFFSETTO:+0200
END:DAYLIGHT
END:VTIMEZONE
END:VCALENDAR
