BEGIN:VCALENDAR
VERSION:2.0
PRODID:-//Plone.org//NONSGML plone.app.event//EN
X-WR-TIMEZONE:Europe/Berlin
BEGIN:VEVENT
SUMMARY:RESTA DIRITTO. IL CARCERE E I DIRITTI CHE RESTANO
DTSTART;TZID=Europe/Berlin:20241211T090000
DTEND;TZID=Europe/Berlin:20241211T183000
DTSTAMP:20260420T095424Z
UID:01cdcf8196024ec2af87e5d3a2ee2fc7@plone6.unife.it:8059
CATEGORIES:terza-missione
CREATED:20241202T095909Z
DESCRIPTION:Giornata di dibattito e riflessione su carcere e diritti a cur
 a dello Sportello di orientamento legale extragiudiziale per le persone de
 tenute nella Casa circondariale di Ferrara
LAST-MODIFIED:20241218T081647Z
LOCATION:ore 9.00-12.40 Aula Magna del Palazzo Turchi di Bagno\, Corso Erc
 ole I d’Este\, 32 | ore 14.30-18.30 Aula Magna del Dipartimento di Giuri
 sprudenza\, Corso Ercole I d’Este\, 37
URL:https://de.unife.it/giuri/it/eventi/resta-diritto-il-carcere-e-i-dirit
 ti-che-restano
END:VEVENT
BEGIN:VTIMEZONE
TZID:Europe/Berlin
X-LIC-LOCATION:Europe/Berlin
BEGIN:STANDARD
DTSTART:20241027T020000
TZNAME:CET
TZOFFSETFROM:+0200
TZOFFSETTO:+0100
END:STANDARD
END:VTIMEZONE
END:VCALENDAR
