BEGIN:VCALENDAR
VERSION:2.0
PRODID:-//Plone.org//NONSGML plone.app.event//EN
X-WR-TIMEZONE:Europe/Berlin
BEGIN:VEVENT
SUMMARY:Sanctions and International Law: Coercive Diplomacy and Legal Resp
 onses
DTSTART;TZID=Europe/Berlin:20251203T150000
DTEND;TZID=Europe/Berlin:20251203T170000
DTSTAMP:20260420T083829Z
UID:9ecb74f87ea54d8e85590dfca0c9f345@plone6.unife.it:8059
CATEGORIES:didattica-ferrara,ricerca,dottorato
CREATED:20251125T091943Z
LAST-MODIFIED:20251125T092032Z
LOCATION:Dipartimento di Giurisprudenza\, aula 1
URL:https://de.unife.it/giuri/it/eventi/sanctions-and-international-law-co
 ercive-diplomacy-and-legal-responses
END:VEVENT
BEGIN:VTIMEZONE
TZID:Europe/Berlin
X-LIC-LOCATION:Europe/Berlin
BEGIN:STANDARD
DTSTART:20251026T020000
TZNAME:CET
TZOFFSETFROM:+0200
TZOFFSETTO:+0100
END:STANDARD
END:VTIMEZONE
END:VCALENDAR
