BEGIN:VCALENDAR
VERSION:2.0
PRODID:-//Plone.org//NONSGML plone.app.event//EN
X-WR-TIMEZONE:Europe/Berlin
BEGIN:VEVENT
SUMMARY:SCUOLA: LABORATORIO DI CONVIVENZA E NUOVA CITTADINANZA
DTSTART;TZID=Europe/Berlin:20241128T150000
DTEND;TZID=Europe/Berlin:20241128T180000
DTSTAMP:20260420T083507Z
UID:565d1c99ca5c432e88541866e14a4f0a@plone6.unife.it:8059
CATEGORIES:terza-missione
CREATED:20241120T141850Z
DESCRIPTION:Festival della migrazione | 26•30 novembre 2024 \nEuropa-Afr
 ica andata e ritorno
LAST-MODIFIED:20241120T142128Z
LOCATION:Dipartimento di Giurisprudenza - Sede di Rovigo\, Aula Magna
URL:https://de.unife.it/giuri/it/eventi/scuola-laboratorio-di-convivenza-e
 -nuova-cittadinanza
END:VEVENT
BEGIN:VTIMEZONE
TZID:Europe/Berlin
X-LIC-LOCATION:Europe/Berlin
BEGIN:STANDARD
DTSTART:20241027T020000
TZNAME:CET
TZOFFSETFROM:+0200
TZOFFSETTO:+0100
END:STANDARD
END:VTIMEZONE
END:VCALENDAR
