BEGIN:VCALENDAR
VERSION:2.0
PRODID:-//Plone.org//NONSGML plone.app.event//EN
X-WR-TIMEZONE:Europe/Berlin
BEGIN:VEVENT
SUMMARY:SELVAGGI CRIMINALI - Storia della deportazione penale nell’Itali
 a liberale (1861-1900)
DTSTART;TZID=Europe/Berlin:20250416T160000
DTEND;TZID=Europe/Berlin:20250416T180000
DTSTAMP:20260420T095830Z
UID:375879881b514202862172b400c21fbc@plone6.unife.it:8059
CATEGORIES:didattica-ferrara,ricerca
CREATED:20250401T085455Z
LAST-MODIFIED:20250402T132542Z
LOCATION:AULA MAGNA - DIPARTIMENTO DI GIURISPRUDENZA
URL:https://de.unife.it/giuri/it/eventi/selvaggi-criminali-storia-della-de
 portazione-penale-nell2019italia-liberale-1861-1900
END:VEVENT
BEGIN:VTIMEZONE
TZID:Europe/Berlin
X-LIC-LOCATION:Europe/Berlin
BEGIN:DAYLIGHT
DTSTART:20250330T030000
TZNAME:CEST
TZOFFSETFROM:+0100
TZOFFSETTO:+0200
END:DAYLIGHT
END:VTIMEZONE
END:VCALENDAR
