BEGIN:VCALENDAR
VERSION:2.0
PRODID:-//Plone.org//NONSGML plone.app.event//EN
X-WR-TIMEZONE:Europe/Berlin
BEGIN:VEVENT
SUMMARY:Seminari dottorali di avanzamento della ricerca - Dottorato in Dir
 itto dell’Unione europea e ordinamenti nazionali XXXIX ciclo
DTSTART;TZID=Europe/Berlin:20251010T100000
DTEND;TZID=Europe/Berlin:20251010T130000
DTSTAMP:20260420T084112Z
UID:1b8d05d55f874d8ba75324adacad0ca6@plone6.unife.it:8059
CATEGORIES:dottorato,ricerca
CREATED:20251003T100113Z
LAST-MODIFIED:20251015T103113Z
LOCATION:Dipartimento di Giurisprudenza\, Palazzo Angeli\, Aula Magna “L
 uigi Costato”
URL:https://de.unife.it/giuri/it/eventi/semianri-dottorali-di-avanzamento-
 della-ricerca-dottorato-in-diritto-dell2019unione-europea-e-ordinamenti-na
 zionali-xxxix-ciclo
END:VEVENT
BEGIN:VTIMEZONE
TZID:Europe/Berlin
X-LIC-LOCATION:Europe/Berlin
BEGIN:DAYLIGHT
DTSTART:20250330T030000
TZNAME:CEST
TZOFFSETFROM:+0100
TZOFFSETTO:+0200
END:DAYLIGHT
END:VTIMEZONE
END:VCALENDAR
