BEGIN:VCALENDAR
VERSION:2.0
PRODID:-//Plone.org//NONSGML plone.app.event//EN
X-WR-TIMEZONE:Europe/Berlin
BEGIN:VEVENT
SUMMARY:Seminari dottorali di avanzamento della ricerca
DTSTART;TZID=Europe/Berlin:20250528T141500
DTEND;TZID=Europe/Berlin:20250528T180000
DTSTAMP:20260420T095624Z
UID:0431f9d27c314e76beaf7e939f0a769f@plone6.unife.it:8059
CATEGORIES:dottorato,ricerca
CREATED:20250526T075348Z
DESCRIPTION:Dottorato in Diritto dell’Unione europea e ordinamenti nazio
 nali\nXXXVIII° ciclo
LAST-MODIFIED:20250526T075404Z
LOCATION:Dipartimento di Giurisprudenza\, Sala “Carlassare”
URL:https://de.unife.it/giuri/it/eventi/seminari-dottorali-di-avanzamento-
 della-ricerca-1
END:VEVENT
BEGIN:VTIMEZONE
TZID:Europe/Berlin
X-LIC-LOCATION:Europe/Berlin
BEGIN:DAYLIGHT
DTSTART:20250330T030000
TZNAME:CEST
TZOFFSETFROM:+0100
TZOFFSETTO:+0200
END:DAYLIGHT
END:VTIMEZONE
END:VCALENDAR
