BEGIN:VCALENDAR
VERSION:2.0
PRODID:-//Plone.org//NONSGML plone.app.event//EN
X-WR-TIMEZONE:Europe/Berlin
BEGIN:VEVENT
SUMMARY:Seminari dottorali di avanzamento della ricerca
DTSTART;TZID=Europe/Berlin:20241114T090000
DTEND;TZID=Europe/Berlin:20241114T170000
DTSTAMP:20260420T083535Z
UID:0e8d1eb6ec874a1485625ea836691a8b@plone6.unife.it:8059
CATEGORIES:ricerca,dottorato
CREATED:20241024T065315Z
DESCRIPTION:Dottorato in Diritto dell’Unione europea e ordinamenti nazio
 nali - XXXIX ciclo
LAST-MODIFIED:20241029T112317Z
LOCATION:Dipartimento di Giurisprudenza - Sede di Rovigo\, AULA H
URL:https://de.unife.it/giuri/it/eventi/seminari-dottorali-di-avanzamento-
 della-ricerca
END:VEVENT
BEGIN:VTIMEZONE
TZID:Europe/Berlin
X-LIC-LOCATION:Europe/Berlin
BEGIN:STANDARD
DTSTART:20241027T020000
TZNAME:CET
TZOFFSETFROM:+0200
TZOFFSETTO:+0100
END:STANDARD
END:VTIMEZONE
END:VCALENDAR
