BEGIN:VCALENDAR
VERSION:2.0
PRODID:-//Plone.org//NONSGML plone.app.event//EN
X-WR-TIMEZONE:Europe/Berlin
BEGIN:VEVENT
SUMMARY:Seminario con il Sostituto Procuratore nazionale Antimafia Dott. A
 ntonio Ardituro
DTSTART;TZID=Europe/Berlin:20241120T140000
DTEND;TZID=Europe/Berlin:20241120T160000
DTSTAMP:20260420T084015Z
UID:3cf25019a6ea4e4d9a32c3aeb2de4486@plone6.unife.it:8059
CREATED:20241112T090404Z
DESCRIPTION:La Procura Nazionale Antimafia e l'accertamento dei reati di c
 riminalità organizzata
LAST-MODIFIED:20241112T111739Z
LOCATION:Sala Carlassare\, Dipartimento di Giurisprudenza - sede di Ferrar
 a
URL:https://de.unife.it/giuri/it/eventi/seminario-con-il-sostituto-procura
 tore-nazionale-antimafia-dott-antonio-ardituro
END:VEVENT
BEGIN:VTIMEZONE
TZID:Europe/Berlin
X-LIC-LOCATION:Europe/Berlin
BEGIN:STANDARD
DTSTART:20241027T020000
TZNAME:CET
TZOFFSETFROM:+0200
TZOFFSETTO:+0100
END:STANDARD
END:VTIMEZONE
END:VCALENDAR
