BEGIN:VCALENDAR
VERSION:2.0
PRODID:-//Plone.org//NONSGML plone.app.event//EN
X-WR-TIMEZONE:Europe/Berlin
BEGIN:VEVENT
SUMMARY:SEMINARIO | Fascicolo Sanitario Elettronico e Spazio Europeo dei D
 ati Sanitari
DTSTART;TZID=Europe/Berlin:20260423T140000
DTEND;TZID=Europe/Berlin:20260423T170000
DTSTAMP:20260420T081804Z
UID:50094b474e304848aca17ac7deed01c6@plone6.unife.it:8059
CATEGORIES:terza-missione,didattica-rovigo
CREATED:20260401T094955Z
LAST-MODIFIED:20260407T073051Z
LOCATION:Dipartimento di Giurisprudenza - Aula magna ‘Luigi Costato’ -
  Rovigo
URL:https://de.unife.it/giuri/it/eventi/seminario-fascicolo-sanitario-elet
 tronico-e-spazio-europeo-dei-dati-sanitari
END:VEVENT
BEGIN:VTIMEZONE
TZID:Europe/Berlin
X-LIC-LOCATION:Europe/Berlin
BEGIN:DAYLIGHT
DTSTART:20260329T030000
TZNAME:CEST
TZOFFSETFROM:+0100
TZOFFSETTO:+0200
END:DAYLIGHT
END:VTIMEZONE
END:VCALENDAR
