BEGIN:VCALENDAR
VERSION:2.0
PRODID:-//Plone.org//NONSGML plone.app.event//EN
X-WR-TIMEZONE:Europe/Berlin
BEGIN:VEVENT
SUMMARY:Sentencing the Ethically Motivated Offender: Mitigation for ‘Eth
 ical’ Criminality?
DTSTART;TZID=Europe/Berlin:20250512T090000
DTEND;TZID=Europe/Berlin:20250513T163000
DTSTAMP:20260420T083703Z
UID:daa13934367743a2a093cde1c72ac12e@plone6.unife.it:8059
CATEGORIES:dottorato,ricerca
CREATED:20250409T123815Z
LAST-MODIFIED:20250409T123931Z
LOCATION:Dipartimento di Giurisprudenza\, Sala Lorenza Carlassare
URL:https://de.unife.it/giuri/it/eventi/sentencing-the-ethically-motivated
 -offender-mitigaion-for-ethical-criminality
END:VEVENT
BEGIN:VTIMEZONE
TZID:Europe/Berlin
X-LIC-LOCATION:Europe/Berlin
BEGIN:DAYLIGHT
DTSTART:20250330T030000
TZNAME:CEST
TZOFFSETFROM:+0100
TZOFFSETTO:+0200
END:DAYLIGHT
END:VTIMEZONE
END:VCALENDAR
