BEGIN:VCALENDAR
VERSION:2.0
PRODID:-//Plone.org//NONSGML plone.app.event//EN
X-WR-TIMEZONE:Europe/Berlin
BEGIN:VEVENT
SUMMARY:Senza distinzione di sesso\, Lina Merlin - Madre della Repubblica
DTSTART;TZID=Europe/Berlin:20250310T150000
DTEND;TZID=Europe/Berlin:20250310T170000
DTSTAMP:20260420T083853Z
UID:e52d2713f3af47c2bd771b001f37b975@plone6.unife.it:8059
CREATED:20250303T141116Z
LAST-MODIFIED:20250306T152801Z
LOCATION:Aula Magna “Luigi Costato” - Palazzo Angeli - Rovigo
URL:https://de.unife.it/giuri/it/eventi/senza-distinzione-di-sesso-lina-me
 rlin-madre-della-repubblica
END:VEVENT
BEGIN:VTIMEZONE
TZID:Europe/Berlin
X-LIC-LOCATION:Europe/Berlin
BEGIN:STANDARD
DTSTART:20241027T020000
TZNAME:CET
TZOFFSETFROM:+0200
TZOFFSETTO:+0100
END:STANDARD
END:VTIMEZONE
END:VCALENDAR
