BEGIN:VCALENDAR
VERSION:2.0
PRODID:-//Plone.org//NONSGML plone.app.event//EN
X-WR-TIMEZONE:Europe/Berlin
BEGIN:VEVENT
SUMMARY:Sicurezza sul lavoro e responsabilità penale tra passato e presen
 te
DTSTART;TZID=Europe/Berlin:20250403T100000
DTEND;TZID=Europe/Berlin:20250403T133000
DTSTAMP:20260420T095641Z
UID:5d6ac3ea3c194fa3b34afc0748dcd551@plone6.unife.it:8059
CATEGORIES:dottorato
CREATED:20250314T082515Z
LAST-MODIFIED:20250314T084604Z
LOCATION:Sala Carlassare - Dipartimento di Giurisprudenza - Sede di Ferrar
 a
URL:https://de.unife.it/giuri/it/eventi/sicurezzza-sul-lavoro-e-responsabi
 lita-penale-tra-passato-e-presente
END:VEVENT
BEGIN:VTIMEZONE
TZID:Europe/Berlin
X-LIC-LOCATION:Europe/Berlin
BEGIN:DAYLIGHT
DTSTART:20250330T030000
TZNAME:CEST
TZOFFSETFROM:+0100
TZOFFSETTO:+0200
END:DAYLIGHT
END:VTIMEZONE
END:VCALENDAR
