BEGIN:VCALENDAR
VERSION:2.0
PRODID:-//Plone.org//NONSGML plone.app.event//EN
X-WR-TIMEZONE:Europe/Berlin
BEGIN:VEVENT
SUMMARY:Sistema anticorruzione e prevenzione delal criminalità negli enti
  locali
DTSTART;TZID=Europe/Berlin:20250221T143000
DTEND;TZID=Europe/Berlin:20250221T173000
DTSTAMP:20260420T084020Z
UID:fcfac8f019d6475087c67665c707cf0f@plone6.unife.it:8059
CREATED:20250220T093146Z
LAST-MODIFIED:20250220T093205Z
URL:https://de.unife.it/giuri/it/eventi/sistema-anticorruzione-e-prevenzio
 ne-delal-criminalita-negli-enti-locali-1
END:VEVENT
BEGIN:VTIMEZONE
TZID:Europe/Berlin
X-LIC-LOCATION:Europe/Berlin
BEGIN:STANDARD
DTSTART:20241027T020000
TZNAME:CET
TZOFFSETFROM:+0200
TZOFFSETTO:+0100
END:STANDARD
END:VTIMEZONE
END:VCALENDAR
