BEGIN:VCALENDAR
VERSION:2.0
PRODID:-//Plone.org//NONSGML plone.app.event//EN
X-WR-TIMEZONE:Europe/Berlin
BEGIN:VEVENT
SUMMARY:SMART CITIES. Un dialogo a partire dal volume di Jean-Bernard Auby
 \, Smart cities. Enjeux juridiques de la ville intelligente (Lexis Nexis\,
  2025)
DTSTART;TZID=Europe/Berlin:20251105T110000
DTEND;TZID=Europe/Berlin:20251105T130000
DTSTAMP:20260420T084112Z
UID:b2351f3577344055970cea08dc37dea4@plone6.unife.it:8059
CATEGORIES:dottorato
CREATED:20251022T121234Z
LAST-MODIFIED:20251022T121345Z
LOCATION:Dipartimento di Giurisprudenza - Sala Consiliare “Lorenza Carla
 ssare” e Online
URL:https://de.unife.it/giuri/it/eventi/smart-cities-un-dialogo-a-partire-
 dal-volume-di-jean-bernard-auby-smart-cities-enjeux-juridiques-de-la-ville
 -intelligente-lexis-nexis-2025
END:VEVENT
BEGIN:VTIMEZONE
TZID:Europe/Berlin
X-LIC-LOCATION:Europe/Berlin
BEGIN:STANDARD
DTSTART:20251026T020000
TZNAME:CET
TZOFFSETFROM:+0200
TZOFFSETTO:+0100
END:STANDARD
END:VTIMEZONE
END:VCALENDAR
