BEGIN:VCALENDAR
VERSION:2.0
PRODID:-//Plone.org//NONSGML plone.app.event//EN
X-WR-TIMEZONE:Europe/Berlin
BEGIN:VEVENT
SUMMARY:SPRING SCHOOL 2025:  "LA TUTELA DELLA DIGNITÀ UMANA:  FRA ORDINAM
 ENTO INTERNAZIONALE E DIRITTO INTERNO"
DTSTART;TZID=Europe/Berlin:20250526T090000
DTEND;TZID=Europe/Berlin:20250530T130000
DTSTAMP:20260420T095937Z
UID:dfb4de2e609e488e8042c7e5048536fa@plone6.unife.it:8059
CATEGORIES:didattica-ferrara
CREATED:20250418T104726Z
DESCRIPTION:5° edizione Scuola Macrocrimes
LAST-MODIFIED:20250521T081517Z
URL:https://de.unife.it/giuri/it/eventi/spring-school-2025-la-tutela-della
 -dignita-umana-fra-ordinamento-internazionale-e-diritto-interno
END:VEVENT
BEGIN:VTIMEZONE
TZID:Europe/Berlin
X-LIC-LOCATION:Europe/Berlin
BEGIN:DAYLIGHT
DTSTART:20250330T030000
TZNAME:CEST
TZOFFSETFROM:+0100
TZOFFSETTO:+0200
END:DAYLIGHT
END:VTIMEZONE
END:VCALENDAR
