BEGIN:VCALENDAR
VERSION:2.0
PRODID:-//Plone.org//NONSGML plone.app.event//EN
X-WR-TIMEZONE:Europe/Berlin
BEGIN:VEVENT
SUMMARY:Stereotipi e Giustizia Sociale
DTSTART;TZID=Europe/Berlin:20250402T143000
DTEND;TZID=Europe/Berlin:20250402T163000
DTSTAMP:20260420T095424Z
UID:1f8851b3431a4dd9818b2ee441336c77@plone6.unife.it:8059
CATEGORIES:didattica-ferrara,ricerca
CREATED:20250401T081018Z
LAST-MODIFIED:20250401T081048Z
LOCATION:Aula 2 - Dipartimento di Giurisprudenza\, Ferrara
URL:https://de.unife.it/giuri/it/eventi/stereotipi-e-giustizia-sociale
END:VEVENT
BEGIN:VTIMEZONE
TZID:Europe/Berlin
X-LIC-LOCATION:Europe/Berlin
BEGIN:DAYLIGHT
DTSTART:20250330T030000
TZNAME:CEST
TZOFFSETFROM:+0100
TZOFFSETTO:+0200
END:DAYLIGHT
END:VTIMEZONE
END:VCALENDAR
