BEGIN:VCALENDAR
VERSION:2.0
PRODID:-//Plone.org//NONSGML plone.app.event//EN
X-WR-TIMEZONE:Europe/Berlin
BEGIN:VEVENT
SUMMARY:Tassazione Digitale: Ferrara al Centro del Dibattito Internazional
 e
DTSTART;TZID=Europe/Berlin:20250625T110000
DTEND;TZID=Europe/Berlin:20250625T120000
DTSTAMP:20260420T083724Z
UID:2cbe9df2dc1a4bb0b7716e34e0de7a8a@plone6.unife.it:8059
CATEGORIES:dottorato,ricerca
CREATED:20250626T084350Z
LAST-MODIFIED:20250626T084508Z
LOCATION:Dipartimento di Giurisprudenza
URL:https://de.unife.it/giuri/it/eventi/tassazione-digitale-ferrara-al-cen
 tro-del-dibattito-internazionale-1
END:VEVENT
BEGIN:VTIMEZONE
TZID:Europe/Berlin
X-LIC-LOCATION:Europe/Berlin
BEGIN:DAYLIGHT
DTSTART:20250330T030000
TZNAME:CEST
TZOFFSETFROM:+0100
TZOFFSETTO:+0200
END:DAYLIGHT
END:VTIMEZONE
END:VCALENDAR
