BEGIN:VCALENDAR
VERSION:2.0
PRODID:-//Plone.org//NONSGML plone.app.event//EN
X-WR-TIMEZONE:Europe/Berlin
BEGIN:VEVENT
SUMMARY:The international protection of human dignity through criminal law
 : strengthening Italy's implementation record (DignITA)
DTSTART;TZID=Europe/Berlin:20260123T100000
DTEND;TZID=Europe/Berlin:20260123T170000
DTSTAMP:20260420T083857Z
UID:d5bbc670199947acb434e3bb67dc6f0d@plone6.unife.it:8059
CATEGORIES:ricerca
CREATED:20260114T134407Z
LAST-MODIFIED:20260116T072945Z
LOCATION:University of Ferrara - Law Department | Sala Carlassare - via Er
 cole d’Este 44
URL:https://de.unife.it/giuri/it/eventi/the-international-protection-of-hu
 man-dignity-through-criminal-law-strengthening-italys-implementation-recor
 d-dignita
END:VEVENT
BEGIN:VTIMEZONE
TZID:Europe/Berlin
X-LIC-LOCATION:Europe/Berlin
BEGIN:STANDARD
DTSTART:20251026T020000
TZNAME:CET
TZOFFSETFROM:+0200
TZOFFSETTO:+0100
END:STANDARD
END:VTIMEZONE
END:VCALENDAR
