BEGIN:VCALENDAR
VERSION:2.0
PRODID:-//Plone.org//NONSGML plone.app.event//EN
X-WR-TIMEZONE:Europe/Berlin
BEGIN:VEVENT
SUMMARY:The Interpretation of Tax Legislation: un confronto europeo sui me
 todi  interpretativi del diritto tributario
DTSTART;TZID=Europe/Berlin:20260205T140000
DTEND;TZID=Europe/Berlin:20260205T180000
DTSTAMP:20260420T084019Z
UID:961454dc130b4252b0e16404af55acea@plone6.unife.it:8059
CATEGORIES:dottorato,ricerca
CREATED:20260202T140740Z
LAST-MODIFIED:20260202T140757Z
LOCATION:University of Ferrara - Law Department | Sala Carlassare - via Er
 cole d’Este 44
URL:https://de.unife.it/giuri/it/eventi/the-interpretation-of-tax-legislat
 ion-un-confronto-europeo-sui-metodi-interpretativi-del-diritto-tributario
END:VEVENT
BEGIN:VTIMEZONE
TZID:Europe/Berlin
X-LIC-LOCATION:Europe/Berlin
BEGIN:STANDARD
DTSTART:20251026T020000
TZNAME:CET
TZOFFSETFROM:+0200
TZOFFSETTO:+0100
END:STANDARD
END:VTIMEZONE
END:VCALENDAR
