BEGIN:VCALENDAR
VERSION:2.0
PRODID:-//Plone.org//NONSGML plone.app.event//EN
X-WR-TIMEZONE:Europe/Berlin
BEGIN:VEVENT
SUMMARY:The UK Freedom of Information Act
DTSTART;TZID=Europe/Berlin:20250415T140000
DTEND;TZID=Europe/Berlin:20250415T160000
DTSTAMP:20260420T083536Z
UID:6a0c2277a1b648719e94c3cedfe1ab2d@plone6.unife.it:8059
CATEGORIES:dottorato
CREATED:20250414T123116Z
DESCRIPTION:Transparency\, Accountability and the Quest for Open Governmen
 t
LAST-MODIFIED:20250414T124024Z
LOCATION:Dipartimento di Giurisprudenza - aula 4  e online
URL:https://de.unife.it/giuri/it/eventi/the-uk-freedom-of-information-act
END:VEVENT
BEGIN:VTIMEZONE
TZID:Europe/Berlin
X-LIC-LOCATION:Europe/Berlin
BEGIN:DAYLIGHT
DTSTART:20250330T030000
TZNAME:CEST
TZOFFSETFROM:+0100
TZOFFSETTO:+0200
END:DAYLIGHT
END:VTIMEZONE
END:VCALENDAR
